Package: mdqc Version: 1.69.0 Command: /home/biocbuild/R/R/bin/R CMD INSTALL mdqc StartedAt: 2025-01-29 19:30:07 -0000 (Wed, 29 Jan 2025) EndedAt: 2025-01-29 19:30:33 -0000 (Wed, 29 Jan 2025) EllapsedTime: 26.2 seconds RetCode: 0 Status: OK