Package: mdqc Version: 1.69.0 Command: /Library/Frameworks/R.framework/Resources/bin/R CMD build --keep-empty-dirs --no-resave-data mdqc StartedAt: 2025-02-12 17:16:20 -0500 (Wed, 12 Feb 2025) EndedAt: 2025-02-12 17:16:31 -0500 (Wed, 12 Feb 2025) EllapsedTime: 11.4 seconds RetCode: 0 Status: OK PackageFile: mdqc_1.69.0.tar.gz PackageFileSize: 257.7 KiB