Package: mdqc Version: 1.69.0 Command: /home/biocbuild/bbs-3.21-bioc/R/bin/R CMD INSTALL mdqc StartedAt: 2025-02-12 15:03:33 -0500 (Wed, 12 Feb 2025) EndedAt: 2025-02-12 15:03:49 -0500 (Wed, 12 Feb 2025) EllapsedTime: 15.4 seconds RetCode: 0 Status: OK