Package: mdqc Version: 1.69.0 Command: rm -rf mdqc.buildbin-libdir && mkdir mdqc.buildbin-libdir && E:\biocbuild\bbs-3.21-bioc\R\bin\R.exe CMD INSTALL --build --library=mdqc.buildbin-libdir mdqc_1.69.0.tar.gz StartedAt: 2025-02-10 08:05:27 -0500 (Mon, 10 Feb 2025) EndedAt: 2025-02-10 08:05:34 -0500 (Mon, 10 Feb 2025) EllapsedTime: 7.4 seconds RetCode: 0 Status: OK PackageFile: mdqc_1.69.0.zip PackageFileSize: 184 KiB