Package: mdqc Version: 1.69.0 Command: chmod a+r mdqc -R && E:\biocbuild\bbs-3.21-bioc\R\bin\R.exe CMD build --keep-empty-dirs --no-resave-data mdqc StartedAt: 2025-02-09 19:43:07 -0500 (Sun, 09 Feb 2025) EndedAt: 2025-02-09 19:43:19 -0500 (Sun, 09 Feb 2025) EllapsedTime: 11.9 seconds RetCode: 0 Status: OK PackageFile: mdqc_1.69.0.tar.gz PackageFileSize: 143.3 KiB