Package: mdqc Version: 1.69.0 Command: E:\biocbuild\bbs-3.21-bioc\R\bin\R.exe CMD INSTALL mdqc StartedAt: 2025-02-09 15:19:28 -0500 (Sun, 09 Feb 2025) EndedAt: 2025-02-09 15:19:41 -0500 (Sun, 09 Feb 2025) EllapsedTime: 12.8 seconds RetCode: 0 Status: OK