Package: megadepth Version: 1.17.0 Command: /home/biocbuild/bbs-3.21-bioc/R/bin/R CMD build --keep-empty-dirs --no-resave-data megadepth StartedAt: 2025-02-09 17:59:14 -0500 (Sun, 09 Feb 2025) EndedAt: 2025-02-09 17:59:48 -0500 (Sun, 09 Feb 2025) EllapsedTime: 34.0 seconds RetCode: 0 Status: OK PackageFile: megadepth_1.17.0.tar.gz PackageFileSize: 465.6 KiB