Package: megadepth Version: 1.17.0 Command: /home/biocbuild/bbs-3.21-bioc/R/bin/R CMD INSTALL megadepth StartedAt: 2025-02-09 15:35:41 -0500 (Sun, 09 Feb 2025) EndedAt: 2025-02-09 15:35:52 -0500 (Sun, 09 Feb 2025) EllapsedTime: 10.5 seconds RetCode: 0 Status: OK