Package: meshes Version: 1.33.0 Command: /Library/Frameworks/R.framework/Resources/bin/R CMD check --install=check:meshes.install-out.txt --library=/Library/Frameworks/R.framework/Resources/library --no-vignettes --timings meshes_1.33.0.tar.gz StartedAt: 2025-02-09 21:44:56 -0500 (Sun, 09 Feb 2025) EndedAt: 2025-02-09 21:48:09 -0500 (Sun, 09 Feb 2025) EllapsedTime: 193.1 seconds RetCode: 0 Status: OK CheckDir: meshes.Rcheck Warnings: 0