Package: meshes Version: 1.33.0 Command: /home/biocbuild/bbs-3.21-bioc/R/bin/R CMD INSTALL meshes StartedAt: 2025-02-12 15:45:59 -0500 (Wed, 12 Feb 2025) EndedAt: 2025-02-12 15:46:25 -0500 (Wed, 12 Feb 2025) EllapsedTime: 25.4 seconds RetCode: 0 Status: OK