Package: meshes Version: 1.33.0 Command: chmod a+r meshes -R && E:\biocbuild\bbs-3.21-bioc\R\bin\R.exe CMD build --keep-empty-dirs --no-resave-data meshes StartedAt: 2025-02-09 19:44:32 -0500 (Sun, 09 Feb 2025) EndedAt: 2025-02-09 19:45:09 -0500 (Sun, 09 Feb 2025) EllapsedTime: 37.5 seconds RetCode: 0 Status: OK PackageFile: meshes_1.33.0.tar.gz PackageFileSize: 922.1 KiB