Package: meshes Version: 1.33.0 Command: E:\biocbuild\bbs-3.21-bioc\R\bin\R.exe CMD INSTALL meshes StartedAt: 2025-02-09 15:58:13 -0500 (Sun, 09 Feb 2025) EndedAt: 2025-02-09 15:58:43 -0500 (Sun, 09 Feb 2025) EllapsedTime: 29.4 seconds RetCode: 0 Status: OK