Package: meshr Version: 2.13.0 Command: /Library/Frameworks/R.framework/Resources/bin/R CMD check --install=check:meshr.install-out.txt --library=/Library/Frameworks/R.framework/Resources/library --no-vignettes --timings meshr_2.13.0.tar.gz StartedAt: 2025-02-09 19:59:16 -0500 (Sun, 09 Feb 2025) EndedAt: 2025-02-09 20:00:08 -0500 (Sun, 09 Feb 2025) EllapsedTime: 51.7 seconds RetCode: 0 Status: OK CheckDir: meshr.Rcheck Warnings: 0