Package: meshr Version: 2.13.0 Command: /Library/Frameworks/R.framework/Resources/bin/R CMD INSTALL meshr StartedAt: 2025-02-12 15:22:00 -0500 (Wed, 12 Feb 2025) EndedAt: 2025-02-12 15:22:09 -0500 (Wed, 12 Feb 2025) EllapsedTime: 8.8 seconds RetCode: 0 Status: OK