Package: meshr Version: 2.13.0 Command: /Library/Frameworks/R.framework/Resources/bin/R CMD build --keep-empty-dirs --no-resave-data meshr StartedAt: 2025-02-04 17:16:15 -0500 (Tue, 04 Feb 2025) EndedAt: 2025-02-04 17:16:46 -0500 (Tue, 04 Feb 2025) EllapsedTime: 30.8 seconds RetCode: 0 Status: OK PackageFile: meshr_2.13.0.tar.gz PackageFileSize: 1002 KiB