Package: meshr Version: 2.13.0 Command: /Library/Frameworks/R.framework/Resources/bin/R CMD INSTALL meshr StartedAt: 2025-02-04 15:34:22 -0500 (Tue, 04 Feb 2025) EndedAt: 2025-02-04 15:34:50 -0500 (Tue, 04 Feb 2025) EllapsedTime: 28.4 seconds RetCode: 0 Status: OK