Package: meshr Version: 2.13.0 Command: /home/biocbuild/bbs-3.21-bioc/R/bin/R CMD check --install=check:meshr.install-out.txt --library=/home/biocbuild/bbs-3.21-bioc/R/site-library --timings meshr_2.13.0.tar.gz StartedAt: 2025-02-09 23:54:23 -0500 (Sun, 09 Feb 2025) EndedAt: 2025-02-09 23:56:33 -0500 (Sun, 09 Feb 2025) EllapsedTime: 130.2 seconds RetCode: 0 Status: OK CheckDir: meshr.Rcheck Warnings: 0