Package: meshr Version: 2.13.0 Command: /home/biocbuild/bbs-3.21-bioc/R/bin/R CMD INSTALL meshr StartedAt: 2025-02-09 15:29:51 -0500 (Sun, 09 Feb 2025) EndedAt: 2025-02-09 15:30:12 -0500 (Sun, 09 Feb 2025) EllapsedTime: 21.9 seconds RetCode: 0 Status: OK