Package: meshr Version: 2.13.0 Command: chmod a+r meshr -R && E:\biocbuild\bbs-3.21-bioc\R\bin\R.exe CMD build --keep-empty-dirs --no-resave-data meshr StartedAt: 2025-02-09 19:44:36 -0500 (Sun, 09 Feb 2025) EndedAt: 2025-02-09 19:45:18 -0500 (Sun, 09 Feb 2025) EllapsedTime: 42.1 seconds RetCode: 0 Status: OK PackageFile: meshr_2.13.0.tar.gz PackageFileSize: 1002 KiB