Package: meshr Version: 2.13.0 Command: E:\biocbuild\bbs-3.21-bioc\R\bin\R.exe CMD check --no-multiarch --install=check:meshr.install-out.txt --library=E:\biocbuild\bbs-3.21-bioc\R\library --no-vignettes --timings meshr_2.13.0.tar.gz StartedAt: 2025-02-10 02:40:21 -0500 (Mon, 10 Feb 2025) EndedAt: 2025-02-10 02:42:54 -0500 (Mon, 10 Feb 2025) EllapsedTime: 153.4 seconds RetCode: 0 Status: OK CheckDir: meshr.Rcheck Warnings: 0