Package: meshr Version: 2.13.0 Command: E:\biocbuild\bbs-3.21-bioc\R\bin\R.exe CMD INSTALL meshr StartedAt: 2025-02-09 15:59:27 -0500 (Sun, 09 Feb 2025) EndedAt: 2025-02-09 16:00:05 -0500 (Sun, 09 Feb 2025) EllapsedTime: 38.4 seconds RetCode: 0 Status: OK