Package: messina Version: 1.43.0 Command: rm -rf messina.buildbin-libdir && mkdir messina.buildbin-libdir && /Users/biocbuild/BBS/utils/build-universal.sh messina_1.43.0.tar.gz /Library/Frameworks/R.framework/Resources/bin/R messina.buildbin-libdir StartedAt: 2025-02-09 22:20:12 -0500 (Sun, 09 Feb 2025) EndedAt: 2025-02-09 22:20:21 -0500 (Sun, 09 Feb 2025) EllapsedTime: 9.2 seconds RetCode: 0 Status: OK PackageFile: messina_1.43.0.tgz PackageFileSize: 536.2 KiB