Package: messina Version: 1.43.0 Command: /home/biocbuild/R/R/bin/R CMD INSTALL messina StartedAt: 2025-01-29 20:15:26 -0000 (Wed, 29 Jan 2025) EndedAt: 2025-01-29 20:15:59 -0000 (Wed, 29 Jan 2025) EllapsedTime: 33.5 seconds RetCode: 0 Status: OK