Package: messina Version: 1.43.0 Command: rm -rf messina.buildbin-libdir && mkdir messina.buildbin-libdir && /Users/biocbuild/BBS/utils/build-universal.sh messina_1.43.0.tar.gz /Library/Frameworks/R.framework/Resources/bin/R messina.buildbin-libdir StartedAt: 2025-02-04 00:42:02 -0500 (Tue, 04 Feb 2025) EndedAt: 2025-02-04 00:42:33 -0500 (Tue, 04 Feb 2025) EllapsedTime: 31.4 seconds RetCode: 0 Status: OK PackageFile: messina_1.43.0.tgz PackageFileSize: 537.6 KiB