Package: messina Version: 1.43.0 Command: /Library/Frameworks/R.framework/Resources/bin/R CMD build --keep-empty-dirs --no-resave-data messina StartedAt: 2025-02-09 17:21:12 -0500 (Sun, 09 Feb 2025) EndedAt: 2025-02-09 17:22:43 -0500 (Sun, 09 Feb 2025) EllapsedTime: 90.3 seconds RetCode: 0 Status: OK PackageFile: messina_1.43.0.tar.gz PackageFileSize: 297.4 KiB