Package: messina Version: 1.43.0 Command: /Library/Frameworks/R.framework/Resources/bin/R CMD INSTALL messina StartedAt: 2025-02-09 15:31:29 -0500 (Sun, 09 Feb 2025) EndedAt: 2025-02-09 15:31:56 -0500 (Sun, 09 Feb 2025) EllapsedTime: 27.5 seconds RetCode: 0 Status: OK