Package: messina Version: 1.43.0 Command: /home/biocbuild/bbs-3.21-bioc/R/bin/R CMD build --keep-empty-dirs --no-resave-data messina StartedAt: 2025-02-09 17:59:59 -0500 (Sun, 09 Feb 2025) EndedAt: 2025-02-09 18:01:15 -0500 (Sun, 09 Feb 2025) EllapsedTime: 76.1 seconds RetCode: 0 Status: OK PackageFile: messina_1.43.0.tar.gz PackageFileSize: 297.3 KiB