Package: messina Version: 1.43.0 Command: /home/biocbuild/bbs-3.21-bioc/R/bin/R CMD check --install=check:messina.install-out.txt --library=/home/biocbuild/bbs-3.21-bioc/R/site-library --timings messina_1.43.0.tar.gz StartedAt: 2025-02-04 00:02:05 -0500 (Tue, 04 Feb 2025) EndedAt: 2025-02-04 00:05:21 -0500 (Tue, 04 Feb 2025) EllapsedTime: 196.3 seconds RetCode: 0 Status: OK CheckDir: messina.Rcheck Warnings: 0