Package: messina Version: 1.43.0 Command: rm -rf messina.buildbin-libdir && mkdir messina.buildbin-libdir && E:\biocbuild\bbs-3.21-bioc\R\bin\R.exe CMD INSTALL --build --library=messina.buildbin-libdir messina_1.43.0.tar.gz StartedAt: 2025-02-10 08:06:02 -0500 (Mon, 10 Feb 2025) EndedAt: 2025-02-10 08:06:44 -0500 (Mon, 10 Feb 2025) EllapsedTime: 41.9 seconds RetCode: 0 Status: OK PackageFile: messina_1.43.0.zip PackageFileSize: 847.1 KiB