Package: messina Version: 1.43.0 Command: chmod a+r messina -R && E:\biocbuild\bbs-3.21-bioc\R\bin\R.exe CMD build --keep-empty-dirs --no-resave-data messina StartedAt: 2025-02-09 19:44:42 -0500 (Sun, 09 Feb 2025) EndedAt: 2025-02-09 19:46:41 -0500 (Sun, 09 Feb 2025) EllapsedTime: 118.5 seconds RetCode: 0 Status: OK PackageFile: messina_1.43.0.tar.gz PackageFileSize: 298.7 KiB