Package: metaCCA Version: 1.35.0 Command: /Library/Frameworks/R.framework/Resources/bin/R CMD check --install=check:metaCCA.install-out.txt --library=/Library/Frameworks/R.framework/Resources/library --no-vignettes --timings metaCCA_1.35.0.tar.gz StartedAt: 2025-02-09 20:00:08 -0500 (Sun, 09 Feb 2025) EndedAt: 2025-02-09 20:00:19 -0500 (Sun, 09 Feb 2025) EllapsedTime: 11.1 seconds RetCode: 0 Status: WARNINGS CheckDir: metaCCA.Rcheck Warnings: 1