Package: metaCCA Version: 1.35.0 Command: E:\biocbuild\bbs-3.21-bioc\R\bin\R.exe CMD INSTALL metaCCA StartedAt: 2025-02-09 15:54:32 -0500 (Sun, 09 Feb 2025) EndedAt: 2025-02-09 15:54:46 -0500 (Sun, 09 Feb 2025) EllapsedTime: 14.3 seconds RetCode: 0 Status: OK