Package: metaMS Version: 1.43.0 Command: /Library/Frameworks/R.framework/Resources/bin/R CMD build --keep-empty-dirs --no-resave-data metaMS StartedAt: 2025-02-03 17:27:56 -0500 (Mon, 03 Feb 2025) EndedAt: 2025-02-03 17:28:27 -0500 (Mon, 03 Feb 2025) EllapsedTime: 30.3 seconds RetCode: 0 Status: OK PackageFile: metaMS_1.43.0.tar.gz PackageFileSize: 3.818 MiB