Package: metaMS Version: 1.43.0 Command: /Library/Frameworks/R.framework/Resources/bin/R CMD INSTALL metaMS StartedAt: 2025-02-09 15:19:46 -0500 (Sun, 09 Feb 2025) EndedAt: 2025-02-09 15:20:05 -0500 (Sun, 09 Feb 2025) EllapsedTime: 19.1 seconds RetCode: 0 Status: OK