Package: metaMS Version: 1.43.0 Command: /home/biocbuild/R/R/bin/R CMD check --install=check:metaMS.install-out.txt --library=/home/biocbuild/R/R/site-library --no-vignettes --timings metaMS_1.43.0.tar.gz StartedAt: 2025-01-28 12:14:26 -0000 (Tue, 28 Jan 2025) EndedAt: 2025-01-28 12:22:06 -0000 (Tue, 28 Jan 2025) EllapsedTime: 459.4 seconds RetCode: 0 Status: OK CheckDir: metaMS.Rcheck Warnings: 0