Package: metaMS Version: 1.43.0 Command: /home/biocbuild/R/R/bin/R CMD INSTALL metaMS StartedAt: 2025-01-29 20:16:16 -0000 (Wed, 29 Jan 2025) EndedAt: 2025-01-29 20:17:20 -0000 (Wed, 29 Jan 2025) EllapsedTime: 64.0 seconds RetCode: 0 Status: OK