Package: metaMS Version: 1.43.0 Command: /Library/Frameworks/R.framework/Resources/bin/R CMD check --install=check:metaMS.install-out.txt --library=/Library/Frameworks/R.framework/Resources/library --no-vignettes --timings metaMS_1.43.0.tar.gz StartedAt: 2025-02-04 21:31:42 -0500 (Tue, 04 Feb 2025) EndedAt: 2025-02-04 21:38:03 -0500 (Tue, 04 Feb 2025) EllapsedTime: 381.6 seconds RetCode: 0 Status: OK CheckDir: metaMS.Rcheck Warnings: 0