Package: metaMS Version: 1.43.0 Command: /home/biocbuild/bbs-3.21-bioc/R/bin/R CMD build --keep-empty-dirs --no-resave-data metaMS StartedAt: 2025-02-09 18:01:16 -0500 (Sun, 09 Feb 2025) EndedAt: 2025-02-09 18:02:25 -0500 (Sun, 09 Feb 2025) EllapsedTime: 69.1 seconds RetCode: 0 Status: OK PackageFile: metaMS_1.43.0.tar.gz PackageFileSize: 3.818 MiB