Package: metaMS Version: 1.43.0 Command: /home/biocbuild/bbs-3.21-bioc/R/bin/R CMD INSTALL metaMS StartedAt: 2025-02-09 15:41:29 -0500 (Sun, 09 Feb 2025) EndedAt: 2025-02-09 15:42:15 -0500 (Sun, 09 Feb 2025) EllapsedTime: 46.5 seconds RetCode: 0 Status: OK