Package: metaMS Version: 1.43.0 Command: E:\biocbuild\bbs-3.21-bioc\R\bin\R.exe CMD INSTALL metaMS StartedAt: 2025-02-03 17:13:00 -0500 (Mon, 03 Feb 2025) EndedAt: 2025-02-03 17:13:50 -0500 (Mon, 03 Feb 2025) EllapsedTime: 49.9 seconds RetCode: 0 Status: OK