Package: metaSeq Version: 1.47.0 Command: /Library/Frameworks/R.framework/Resources/bin/R CMD build --keep-empty-dirs --no-resave-data metaSeq StartedAt: 2025-02-09 17:22:31 -0500 (Sun, 09 Feb 2025) EndedAt: 2025-02-09 17:22:49 -0500 (Sun, 09 Feb 2025) EllapsedTime: 18.3 seconds RetCode: 0 Status: OK PackageFile: metaSeq_1.47.0.tar.gz PackageFileSize: 6.197 MiB