Package: metaSeq Version: 1.47.0 Command: rm -rf metaSeq.buildbin-libdir && mkdir metaSeq.buildbin-libdir && E:\biocbuild\bbs-3.21-bioc\R\bin\R.exe CMD INSTALL --build --library=metaSeq.buildbin-libdir metaSeq_1.47.0.tar.gz StartedAt: 2025-02-10 08:06:45 -0500 (Mon, 10 Feb 2025) EndedAt: 2025-02-10 08:07:01 -0500 (Mon, 10 Feb 2025) EllapsedTime: 16.2 seconds RetCode: 0 Status: OK PackageFile: metaSeq_1.47.0.zip PackageFileSize: 6.069 MiB