Package: metaSeq Version: 1.47.0 Command: chmod a+r metaSeq -R && E:\biocbuild\bbs-3.21-bioc\R\bin\R.exe CMD build --keep-empty-dirs --no-resave-data metaSeq StartedAt: 2025-02-09 19:47:05 -0500 (Sun, 09 Feb 2025) EndedAt: 2025-02-09 19:47:28 -0500 (Sun, 09 Feb 2025) EllapsedTime: 23.5 seconds RetCode: 0 Status: OK PackageFile: metaSeq_1.47.0.tar.gz PackageFileSize: 6.084 MiB