Package: metabinR Version: 1.9.0 Command: /Library/Frameworks/R.framework/Resources/bin/R CMD build --keep-empty-dirs --no-resave-data metabinR StartedAt: 2025-02-09 16:50:51 -0500 (Sun, 09 Feb 2025) EndedAt: 2025-02-09 16:51:11 -0500 (Sun, 09 Feb 2025) EllapsedTime: 20.2 seconds RetCode: 0 Status: OK PackageFile: metabinR_1.9.0.tar.gz PackageFileSize: 4.39 MiB