Package: metabinR Version: 1.9.0 Command: /home/biocbuild/R/R/bin/R CMD check --install=check:metabinR.install-out.txt --library=/home/biocbuild/R/R/site-library --no-vignettes --timings metabinR_1.9.0.tar.gz StartedAt: 2024-12-13 12:13:13 -0000 (Fri, 13 Dec 2024) EndedAt: 2024-12-13 12:14:13 -0000 (Fri, 13 Dec 2024) EllapsedTime: 60.1 seconds RetCode: 0 Status: OK CheckDir: metabinR.Rcheck Warnings: 0