Package: metabinR Version: 1.9.0 Command: rm -rf metabinR.buildbin-libdir && mkdir metabinR.buildbin-libdir && /Users/biocbuild/BBS/utils/build-universal.sh metabinR_1.9.0.tar.gz /Library/Frameworks/R.framework/Resources/bin/R metabinR.buildbin-libdir StartedAt: 2025-02-10 01:01:36 -0500 (Mon, 10 Feb 2025) EndedAt: 2025-02-10 01:01:43 -0500 (Mon, 10 Feb 2025) EllapsedTime: 7.0 seconds RetCode: 0 Status: OK PackageFile: metabinR_1.9.0.tgz PackageFileSize: 4.368 MiB