Package: metabinR Version: 1.9.0 Command: /Library/Frameworks/R.framework/Resources/bin/R CMD build --keep-empty-dirs --no-resave-data metabinR StartedAt: 2025-02-09 17:21:19 -0500 (Sun, 09 Feb 2025) EndedAt: 2025-02-09 17:22:08 -0500 (Sun, 09 Feb 2025) EllapsedTime: 49.2 seconds RetCode: 0 Status: OK PackageFile: metabinR_1.9.0.tar.gz PackageFileSize: 4.389 MiB