Package: metabinR Version: 1.9.0 Command: /Library/Frameworks/R.framework/Resources/bin/R CMD INSTALL metabinR StartedAt: 2025-02-12 15:06:20 -0500 (Wed, 12 Feb 2025) EndedAt: 2025-02-12 15:06:52 -0500 (Wed, 12 Feb 2025) EllapsedTime: 32.0 seconds RetCode: 0 Status: OK