Package: metahdep Version: 1.65.0 Command: /Library/Frameworks/R.framework/Resources/bin/R CMD build --keep-empty-dirs --no-resave-data metahdep StartedAt: 2025-02-09 16:51:27 -0500 (Sun, 09 Feb 2025) EndedAt: 2025-02-09 16:51:32 -0500 (Sun, 09 Feb 2025) EllapsedTime: 5.1 seconds RetCode: 0 Status: OK PackageFile: metahdep_1.65.0.tar.gz PackageFileSize: 551.4 KiB