Package: metahdep Version: 1.65.0 Command: /Library/Frameworks/R.framework/Resources/bin/R CMD check --install=check:metahdep.install-out.txt --library=/Library/Frameworks/R.framework/Resources/library --no-vignettes --timings metahdep_1.65.0.tar.gz StartedAt: 2025-02-03 20:37:32 -0500 (Mon, 03 Feb 2025) EndedAt: 2025-02-03 20:37:45 -0500 (Mon, 03 Feb 2025) EllapsedTime: 13.2 seconds RetCode: 0 Status: WARNINGS CheckDir: metahdep.Rcheck Warnings: 1